BEGIN:VCALENDAR
VERSION:2.0
PRODID:spatie/icalendar-generator
DESCRIPTION:Events from American Dog Fancier
X-WR-CALDESC:Events from American Dog Fancier
REFRESH-INTERVAL;VALUE=DURATION:PT1440M
X-PUBLISHED-TTL:PT1440M
BEGIN:VTIMEZONE
TZID:Etc/GMT+0
BEGIN:STANDARD
DTSTART:20240804T000000Z
TZOFFSETFROM:+0000
TZOFFSETTO:+0000
END:STANDARD
END:VTIMEZONE
BEGIN:VTIMEZONE
TZID:UTC
BEGIN:STANDARD
DTSTART:20250729T173904Z
TZOFFSETFROM:+0000
TZOFFSETTO:+0000
END:STANDARD
END:VTIMEZONE
BEGIN:VEVENT
UID:1146-874
DTSTAMP:20260425T173904Z
SUMMARY:Wilmington\,  OH- Chow Chow Club\, Inc
LOCATION:
ORGANIZER;CN=American Dog Fancier:MAILTO:mrs.j.freni@gmail.com
DTSTART;TZID=Etc/GMT+0;VALUE=DATE:20250501
DTEND;TZID=Etc/GMT+0;VALUE=DATE:20250502
X-ALT-DESC;FMTTYPE=TEXT/HTML:
CATEGORIES:Dog Show
URL;VALUE=URI:https://www.americandogfancier.com/mc-events/wilmington-oh-ch
 ow-chow-club-inc/
METHOD:PUBLISH
END:VEVENT
END:VCALENDAR