BEGIN:VCALENDAR
VERSION:2.0
PRODID:spatie/icalendar-generator
DESCRIPTION:Events from American Dog Fancier
X-WR-CALDESC:Events from American Dog Fancier
REFRESH-INTERVAL;VALUE=DURATION:PT1440M
X-PUBLISHED-TTL:PT1440M
BEGIN:VTIMEZONE
TZID:Etc/GMT+0
BEGIN:STANDARD
DTSTART:20251005T000000Z
TZOFFSETFROM:+0000
TZOFFSETTO:+0000
END:STANDARD
END:VTIMEZONE
BEGIN:VTIMEZONE
TZID:UTC
BEGIN:STANDARD
DTSTART:20250723T154346Z
TZOFFSETFROM:+0000
TZOFFSETTO:+0000
END:STANDARD
END:VTIMEZONE
BEGIN:VEVENT
UID:2822-2545
DTSTAMP:20260419T154346Z
SUMMARY:Albuquerque\, NM
LOCATION:
ORGANIZER;CN=American Dog Fancier:MAILTO:mrs.j.freni@gmail.com
DTSTART;TZID=Etc/GMT+0;VALUE=DATE:20260702
DTEND;TZID=Etc/GMT+0;VALUE=DATE:20260703
X-ALT-DESC;FMTTYPE=TEXT/HTML:
CATEGORIES:Dog Show
URL;VALUE=URI:https://www.americandogfancier.com/mc-events/albuquerque-nm-1
 2/
METHOD:PUBLISH
END:VEVENT
END:VCALENDAR