BEGIN:VCALENDAR
VERSION:2.0
PRODID:spatie/icalendar-generator
DESCRIPTION:Events from American Dog Fancier
X-WR-CALDESC:Events from American Dog Fancier
REFRESH-INTERVAL;VALUE=DURATION:PT1440M
X-PUBLISHED-TTL:PT1440M
BEGIN:VTIMEZONE
TZID:Etc/GMT+0
BEGIN:STANDARD
DTSTART:20240817T000000Z
TZOFFSETFROM:+0000
TZOFFSETTO:+0000
END:STANDARD
END:VTIMEZONE
BEGIN:VTIMEZONE
TZID:UTC
BEGIN:STANDARD
DTSTART:20250729T231906Z
TZOFFSETFROM:+0000
TZOFFSETTO:+0000
END:STANDARD
END:VTIMEZONE
BEGIN:VEVENT
UID:1157-885
DTSTAMP:20260425T231906Z
SUMMARY:Estes Park\,  CO- Irish Water Spaniel Club of America
LOCATION:
ORGANIZER;CN=American Dog Fancier:MAILTO:mrs.j.freni@gmail.com
DTSTART;TZID=Etc/GMT+0;VALUE=DATE:20250514
DTEND;TZID=Etc/GMT+0;VALUE=DATE:20250515
X-ALT-DESC;FMTTYPE=TEXT/HTML:
CATEGORIES:Dog Show
URL;VALUE=URI:https://www.americandogfancier.com/mc-events/estes-park-co-ir
 ish-water-spaniel-club-of-america/
METHOD:PUBLISH
END:VEVENT
END:VCALENDAR