BEGIN:VCALENDAR
VERSION:2.0
PRODID:spatie/icalendar-generator
DESCRIPTION:Events from American Dog Fancier
X-WR-CALDESC:Events from American Dog Fancier
REFRESH-INTERVAL;VALUE=DURATION:PT1440M
X-PUBLISHED-TTL:PT1440M
BEGIN:VTIMEZONE
TZID:Etc/GMT+0
BEGIN:STANDARD
DTSTART:20251007T000000Z
TZOFFSETFROM:+0000
TZOFFSETTO:+0000
END:STANDARD
END:VTIMEZONE
BEGIN:VTIMEZONE
TZID:UTC
BEGIN:STANDARD
DTSTART:20250723T170040Z
TZOFFSETFROM:+0000
TZOFFSETTO:+0000
END:STANDARD
END:VTIMEZONE
BEGIN:VEVENT
UID:2837-2560
DTSTAMP:20260419T170040Z
SUMMARY:West Friendship\, MD
LOCATION:
ORGANIZER;CN=American Dog Fancier:MAILTO:mrs.j.freni@gmail.com
DTSTART;TZID=Etc/GMT+0;VALUE=DATE:20260704
DTEND;TZID=Etc/GMT+0;VALUE=DATE:20260705
X-ALT-DESC;FMTTYPE=TEXT/HTML:
CATEGORIES:Dog Show
URL;VALUE=URI:https://www.americandogfancier.com/mc-events/west-friendship-
 md-27/
METHOD:PUBLISH
END:VEVENT
END:VCALENDAR